BEGIN:VCALENDAR
VERSION:2.0
PRODID:-//Alto de Inazares - ECPv6.2.8//NONSGML v1.0//EN
CALSCALE:GREGORIAN
METHOD:PUBLISH
X-ORIGINAL-URL:https://altodeinazares.com
X-WR-CALDESC:Eventos para Alto de Inazares
REFRESH-INTERVAL;VALUE=DURATION:PT1H
X-Robots-Tag:noindex
X-PUBLISHED-TTL:PT1H
BEGIN:VTIMEZONE
TZID:Europe/Paris
BEGIN:DAYLIGHT
TZOFFSETFROM:+0100
TZOFFSETTO:+0200
TZNAME:CEST
DTSTART:20240331T010000
END:DAYLIGHT
BEGIN:STANDARD
TZOFFSETFROM:+0200
TZOFFSETTO:+0100
TZNAME:CET
DTSTART:20241027T010000
END:STANDARD
END:VTIMEZONE
BEGIN:VEVENT
DTSTART;TZID=Europe/Paris:20240113T000000
DTEND;TZID=Europe/Paris:20240113T140000
DTSTAMP:20260423T133134
CREATED:20231130T182807Z
LAST-MODIFIED:20231130T184150Z
UID:13475-1705104000-1705154400@altodeinazares.com
SUMMARY:Cata con visita a bodega y viñedo
DESCRIPTION:Ven a conocer el proyecto de la bodega Alto de Inazares a lo largo de un paseo por el viñedo\, y la bodega\, seguida de una cata.\nPodrás conocer de la mano de los fundadores de la bodega familiar aquellos aspectos que hacen que estos vinos sean tan singulares.\nOpciones\nGrupos de 5 o más personas\n\nprecio: 15€/persona\ncomprende la cata de dos vinos\, y un acompañamiento.\n\nGrupos HASTA 4 personas\n\nprecio: consultar Ángela\nwhatsapp / teléfono 65478254\n\nGrupos de 15 o más personas\n\nprecio: consultar Ángela\nwhatsapp / teléfono 65478254
URL:https://altodeinazares.com/evento/cata-con-visita-a-bodega-y-vinedo-2/
LOCATION:Bodega Alto de Inazares\, camino de Majarazán\, s/n\, Inazares\, Murcia\, 30413\, España
CATEGORIES:Catas
ATTACH;FMTTYPE=image/jpeg:https://altodeinazares.com/wp-content/uploads/2023/09/CATA-PORCHE-2-ALTO-DE-INAZARES.jpg
ORGANIZER;CN="Bodela Alto de Inazares":MAILTO:contacto@altodeinazares.com
END:VEVENT
END:VCALENDAR